BEGIN:VCALENDAR
VERSION:2.0
PRODID:-//ChamberMaster//Event Calendar 2.0//EN
METHOD:PUBLISH
X-PUBLISHED-TTL:P3D
REFRESH-INTERVAL:P3D
CALSCALE:GREGORIAN
BEGIN:VEVENT
DTSTART:20260501T120000Z
DTEND:20260501T140000Z
X-MICROSOFT-CDO-ALLDAYEVENT:FALSE
SUMMARY:On The Menu - ChatGPT for Your Business
DESCRIPTION:On The Menu series begins during our networking on Friday\, May 1st in Zephyrhills with speaker Brian Orr\, a John Maxwell Certified Executive Coach\, who will share tips and tricks for using ChatGPT in your business.
X-ALT-DESC;FMTTYPE=text/html:On The Menu series begins during our networking on Friday\, May 1st in Zephyrhills with speaker Brian Orr\, a John Maxwell Certified Executive Coach\, who will share tips and tricks for using ChatGPT in your business.<br />\n<br />\n<br />\n<br />\n&nbsp\;
LOCATION:Chamber office 38550 5th Avenue Zephyrhills
UID:e.3315.25721
SEQUENCE:3
DTSTAMP:20260421T182349Z
URL:https://business.eastpascochamber.org/events/details/on-the-menu-chatgpt-for-your-business-25721
END:VEVENT

END:VCALENDAR
