BEGIN:VCALENDAR
VERSION:2.0
PRODID:-//ChamberMaster//Event Calendar 2.0//EN
METHOD:PUBLISH
X-PUBLISHED-TTL:P3D
REFRESH-INTERVAL:P3D
CALSCALE:GREGORIAN
BEGIN:VEVENT
DTSTART:20260509T140000Z
DTEND:20260509T160000Z
X-MICROSOFT-CDO-ALLDAYEVENT:FALSE
SUMMARY:Dog Mom's Day- Wesley Chapel
DESCRIPTION:Calling all Dog Mums!  Being a Dog Mom is the best job in the world but it's time to trade the leash for a mimosa (at least for an hour or two). Join us at Bay Paws Pet Resort 13662 Automobile Blvd. CLEARWATER for Dog Mom's Day\, an event designed to pamper you AND your pup. WHAT"S HAPPENING: For Mom: Complimentary mimosas\, appetizers\, and sweet treats. For Kids/Pups: A DIY craft station to make Mom a gift. Explore: Tour our facility and see what we're all about! THE BEST PART? Every attendee can enter to win our Ultimate Pampering Giveaway: ? A $150 Hand & Stone Gift Card (Massage or Facial)  A Bay Paws Doggie Spa Package for your fur baby! FREE AND OPEN TO THE COMMUNITY!
X-ALT-DESC;FMTTYPE=text/html:Calling all Dog Mums!&nbsp\; Being a Dog Mom is the best job in the world but it&rsquo\;s time to trade the leash for a mimosa (at least for an hour or two). Join us at Bay Paws Pet Resort 13662 Automobile Blvd. CLEARWATER for Dog Mom&rsquo\;s Day\, an event designed to pamper you AND your pup. WHAT&quot\;S HAPPENING: For Mom: Complimentary mimosas\, appetizers\, and sweet treats. For Kids/Pups: A DIY craft station to make Mom a gift. Explore: Tour our facility and see what we&rsquo\;re all about! THE BEST PART? Every attendee can enter to win our Ultimate Pampering Giveaway: ? A $150 Hand &amp\; Stone Gift Card (Massage or Facial)&nbsp\; A Bay Paws Doggie Spa Package for your fur baby! FREE AND OPEN TO THE COMMUNITY!
LOCATION:Bay Paws Pet Resort
UID:e.3315.25720
SEQUENCE:3
DTSTAMP:20260420T165334Z
URL:https://business.eastpascochamber.org/events/details/dog-mom-s-day-wesley-chapel-25720
END:VEVENT

END:VCALENDAR
